Workbook

Sheet Лист1
B5: ФИНАНСОВОЕ ОБЕСПЕЧЕНИЕ
B6: выполнения муниципального задания на оказание муниципальных услуг (выполнение работ)
B7: на 2021 год и плановый период 2022 и 2023 годов
B8: ='[1]16'!A2 -> МБОУ СОШ № 183
B9: наименование учреждения
A11: № п/п | B11: Наименование муниципальной услуги | D11: Уникальный номер реестровой записи | E11: Нормативные затраты на оказание муниципальной услуги, рублей | F11: Объем муниципальной услуги, установленный муниципальным заданием | G11: Сумма затрат на оказание муниципальной услуги, рублей | H11: Коэффициент выравнивания | I11: Затраты на уплату налогов | J11: Финансовое обеспечение выполнения муниципального задания, рублей
J12: всего | K12: в том числе
K13: 01.01.00 | L13: 37.50.02 | M13: 37.50.04 | N13: 03.01.01 | O13: 03.01.02
A14: 1 | B14: 2 | D14: 3 | E14: 4 | F14: 5 | G14: 6=4x5 | H14: 7 | I14: 8 | J14: 9=6x7+8 | K14: 10 | L14: 11 | M14: 11 | N14: 11 | O14: 12
A15: 1 | B15: Реализация основных общеобразовательных программ начального общего образования | C15: не указано | D15: {=TRANSPOSE('[1]16'!C10:BJ10)} -> 801012О.99.0.БА81АЭ92001 | E15: =IFERROR(ROUND('[1]16'!C169/F15,2),0) -> 41057.02 | F15: {=TRANSPOSE('[1]16'!C131:BJ131)} -> 515 | G15: =E15*F15 -> 21144365 | H15: х | I15: х | J15: х | K15: х | L15: х | M15: х | N15: х | O15: х
B16: Реализация основных общеобразовательных программ начального общего образования | C16: не указано | D16: 801012О.99.0.БА81АЮ07001 | E16: =IFERROR(ROUND('[1]16'!D169/F16,2),0) -> 0 | F16: 0 | G16: =E16*F16 -> 0 | H16: х | I16: х | J16: х | K16: х | L16: х | M16: х | N16: х | O16: х
B17: Реализация основных общеобразовательных программ начального общего образования | C17: не указано | D17: 801012О.99.0.БА81АЭ96001 | E17: =IFERROR(ROUND('[1]16'!E169/F17,2),0) -> 0 | F17: 0 | G17: =E17*F17 -> 0 | H17: х | I17: х | J17: х | K17: х | L17: х | M17: х | N17: х | O17: х
B18: Реализация основных общеобразовательных программ начального общего образования | C18: не указано | D18: 801012О.99.0.БА81АЮ11001 | E18: =IFERROR(ROUND('[1]16'!F169/F18,2),0) -> 0 | F18: 0 | G18: =E18*F18 -> 0 | H18: х | I18: х | J18: х | K18: х | L18: х | M18: х | N18: х | O18: х
B19: Реализация основных общеобразовательных программ начального общего образования | C19: не указано | D19: 801012О.99.0.БА81АЮ00001 | E19: =IFERROR(ROUND('[1]16'!G169/F19,2),0) -> 0 | F19: 0 | G19: =E19*F19 -> 0 | H19: х | I19: х | J19: х | K19: х | L19: х | M19: х | N19: х | O19: х
B20: Реализация основных общеобразовательных программ начального общего образования | C20: не указано | D20: 801012О.99.0.БА81АЮ15001 | E20: =IFERROR(ROUND('[1]16'!H169/F20,2),0) -> 0 | F20: 0 | G20: =E20*F20 -> 0 | H20: х | I20: х | J20: х | K20: х | L20: х | M20: х | N20: х | O20: х
B21: Реализация основных общеобразовательных программ начального общего образования | C21: образовательная программа, обеспечивающая углубленное изучение отдельных учебных предметов, предметных областей (профильное обучение) | D21: 801012О.99.0.БА81АП40001 | E21: =IFERROR(ROUND('[1]16'!I169/F21,2),0) -> 0 | F21: 0 | G21: =E21*F21 -> 0 | H21: х | I21: х | J21: х | K21: х | L21: х | M21: х | N21: х | O21: х
B22: Реализация основных общеобразовательных программ начального общего образования | C22: образовательная программа, обеспечивающая углубленное изучение отдельных учебных предметов, предметных областей (профильное обучение) | D22: 801012О.99.0.БА81АП55001 | E22: =IFERROR(ROUND('[1]16'!J169/F22,2),0) -> 0 | F22: 0 | G22: =E22*F22 -> 0 | H22: х | I22: х | J22: х | K22: х | L22: х | M22: х | N22: х | O22: х
B23: Реализация основных общеобразовательных программ начального общего образования | C23: образовательная программа, обеспечивающая углубленное изучение отдельных учебных предметов, предметных областей (профильное обучение) | D23: 801012О.99.0.БА81АП44001 | E23: =IFERROR(ROUND('[1]16'!K169/F23,2),0) -> 0 | F23: 0 | G23: =E23*F23 -> 0 | H23: х | I23: х | J23: х | K23: х | L23: х | M23: х | N23: х | O23: х
B24: Реализация основных общеобразовательных программ начального общего образования | C24: образовательная программа, обеспечивающая углубленное изучение отдельных учебных предметов, предметных областей (профильное обучение) | D24: 801012О.99.0.БА81АП59001 | E24: =IFERROR(ROUND('[1]16'!L169/F24,2),0) -> 0 | F24: 0 | G24: =E24*F24 -> 0 | H24: х | I24: х | J24: х | K24: х | L24: х | M24: х | N24: х | O24: х
B25: Реализация основных общеобразовательных программ начального общего образования | C25: образовательная программа, обеспечивающая углубленное изучение отдельных учебных предметов, предметных областей (профильное обучение) | D25: 801012О.99.0.БА81АП48001 | E25: =IFERROR(ROUND('[1]16'!M169/F25,2),0) -> 0 | F25: 0 | G25: =E25*F25 -> 0 | H25: х | I25: х | J25: х | K25: х | L25: х | M25: х | N25: х | O25: х
B26: Реализация основных общеобразовательных программ начального общего образования | C26: образовательная программа, обеспечивающая углубленное изучение отдельных учебных предметов, предметных областей (профильное обучение) | D26: 801012О.99.0.БА81АП63001 | E26: =IFERROR(ROUND('[1]16'!N169/F26,2),0) -> 0 | F26: 0 | G26: =E26*F26 -> 0 | H26: х | I26: х | J26: х | K26: х | L26: х | M26: х | N26: х | O26: х
A27: 2 | B27: Реализация основных общеобразовательных программ начального общего образования | C27: адаптированная образовательная программа | D27: 801012О.99.0.БА81АВ88000 | E27: =IFERROR(ROUND('[1]16'!O169/F27,2),0) -> 41057.02 | F27: 12 | G27: =E27*F27 -> 492684.24 | H27: х | I27: х | J27: х | K27: х | L27: х | M27: х | N27: х | O27: х
B28: Реализация основных общеобразовательных программ начального общего образования | C28: адаптированная образовательная программа | D28: 801012О.99.0.БА81АГ03000 | E28: =IFERROR(ROUND('[1]16'!P169/F28,2),0) -> 0 | F28: 0 | G28: =E28*F28 -> 0 | H28: х | I28: х | J28: х | K28: х | L28: х | M28: х | N28: х | O28: х
B29: Реализация основных общеобразовательных программ начального общего образования | C29: адаптированная образовательная программа | D29: 801012О.99.0.БА81АВ92000 | E29: =IFERROR(ROUND('[1]16'!Q169/F29,2),0) -> 0 | F29: 0 | G29: =E29*F29 -> 0 | H29: х | I29: х | J29: х | K29: х | L29: х | M29: х | N29: х | O29: х
B30: Реализация основных общеобразовательных программ начального общего образования | C30: адаптированная образовательная программа | D30: 801012О.99.0.БА81АГ07000 | E30: =IFERROR(ROUND('[1]16'!R169/F30,2),0) -> 0 | F30: 0 | G30: =E30*F30 -> 0 | H30: х | I30: х | J30: х | K30: х | L30: х | M30: х | N30: х | O30: х
B31: Реализация основных общеобразовательных программ начального общего образования | C31: адаптированная образовательная программа | D31: 801012О.99.0.БА81АВ96000 | E31: =IFERROR(ROUND('[1]16'!S169/F31,2),0) -> 0 | F31: 0 | G31: =E31*F31 -> 0 | H31: х | I31: х | J31: х | K31: х | L31: х | M31: х | N31: х | O31: х
B32: Реализация основных общеобразовательных программ начального общего образования | C32: адаптированная образовательная программа | D32: 801012О.99.0.БА81АГ11000 | E32: =IFERROR(ROUND('[1]16'!T169/F32,2),0) -> 0 | F32: 0 | G32: =E32*F32 -> 0 | H32: х | I32: х | J32: х | K32: х | L32: х | M32: х | N32: х | O32: х
A33: 3 | B33: Реализация основных общеобразовательных программ основного общего образования | C33: не указано | D33: 802111О.99.0.БА96АЮ58001 | E33: =IFERROR(ROUND('[1]16'!U169/F33,2),0) -> 47909.72 | F33: 208 | G33: =E33*F33 -> 9965221.8 | H33: х | I33: х | J33: х | K33: х | L33: х | M33: х | N33: х | O33: х
B34: Реализация основных общеобразовательных программ основного общего образования | C34: не указано | D34: 802111О.99.0.БА96АЮ73001 | E34: =IFERROR(ROUND('[1]16'!V169/F34,2),0) -> 0 | F34: 0 | G34: =E34*F34 -> 0 | H34: х | I34: х | J34: х | K34: х | L34: х | M34: х | N34: х | O34: х
B35: Реализация основных общеобразовательных программ основного общего образования | C35: не указано | D35: 802111О.99.0.БА96АЮ62001 | E35: =IFERROR(ROUND('[1]16'!W169/F35,2),0) -> 0 | F35: 0 | G35: =E35*F35 -> 0 | H35: х | I35: х | J35: х | K35: х | L35: х | M35: х | N35: х | O35: х
B36: Реализация основных общеобразовательных программ основного общего образования | C36: не указано | D36: 802111О.99.0.БА96АЮ77001 | E36: =IFERROR(ROUND('[1]16'!X169/F36,2),0) -> 0 | F36: 0 | G36: =E36*F36 -> 0 | H36: х | I36: х | J36: х | K36: х | L36: х | M36: х | N36: х | O36: х
B37: Реализация основных общеобразовательных программ основного общего образования | C37: не указано | D37: 802111О.99.0.БА96АЮ66001 | E37: =IFERROR(ROUND('[1]16'!Y169/F37,2),0) -> 0 | F37: 0 | G37: =E37*F37 -> 0 | H37: х | I37: х | J37: х | K37: х | L37: х | M37: х | N37: х | O37: х
B38: Реализация основных общеобразовательных программ основного общего образования | C38: не указано | D38: 802111О.99.0.БА96АЮ81001 | E38: =IFERROR(ROUND('[1]16'!Z169/F38,2),0) -> 0 | F38: 0 | G38: =E38*F38 -> 0 | H38: х | I38: х | J38: х | K38: х | L38: х | M38: х | N38: х | O38: х
A39: 4 | B39: Реализация основных общеобразовательных программ основного общего образования | C39: образовательная программа, обеспечивающая углубленное изучение отдельных учебных предметов, предметных областей (профильное обучение) | D39: 802111О.99.0.БА96АП76001 | E39: =IFERROR(ROUND('[1]16'!AA169/F39,2),0) -> 94265.98 | F39: 215 | G39: =E39*F39 -> 20267186 | H39: х | I39: х | J39: х | K39: х | L39: х | M39: х | N39: х | O39: х
B40: Реализация основных общеобразовательных программ основного общего образования | C40: образовательная программа, обеспечивающая углубленное изучение отдельных учебных предметов, предметных областей (профильное обучение) | D40: 802111О.99.0.БА96АП91001 | E40: =IFERROR(ROUND('[1]16'!AB169/F40,2),0) -> 0 | F40: 0 | G40: =E40*F40 -> 0 | H40: х | I40: х | J40: х | K40: х | L40: х | M40: х | N40: х | O40: х
B41: Реализация основных общеобразовательных программ основного общего образования | C41: образовательная программа, обеспечивающая углубленное изучение отдельных учебных предметов, предметных областей (профильное обучение) | D41: 802111О.99.0.БА96АП80001 | E41: =IFERROR(ROUND('[1]16'!AC169/F41,2),0) -> 0 | F41: 0 | G41: =E41*F41 -> 0 | H41: х | I41: х | J41: х | K41: х | L41: х | M41: х | N41: х | O41: х
B42: Реализация основных общеобразовательных программ основного общего образования | C42: образовательная программа, обеспечивающая углубленное изучение отдельных учебных предметов, предметных областей (профильное обучение) | D42: 802111О.99.0.БА96АП95001 | E42: =IFERROR(ROUND('[1]16'!AD169/F42,2),0) -> 0 | F42: 0 | G42: =E42*F42 -> 0 | H42: х | I42: х | J42: х | K42: х | L42: х | M42: х | N42: х | O42: х
B43: Реализация основных общеобразовательных программ основного общего образования | C43: образовательная программа, обеспечивающая углубленное изучение отдельных учебных предметов, предметных областей (профильное обучение) | D43: 802111О.99.0.БА96АП84001 | E43: =IFERROR(ROUND('[1]16'!AE169/F43,2),0) -> 0 | F43: 0 | G43: =E43*F43 -> 0 | H43: х | I43: х | J43: х | K43: х | L43: х | M43: х | N43: х | O43: х
B44: Реализация основных общеобразовательных программ основного общего образования | C44: образовательная программа, обеспечивающая углубленное изучение отдельных учебных предметов, предметных областей (профильное обучение) | D44: 802111О.99.0.БА96АП99001 | E44: =IFERROR(ROUND('[1]16'!AF169/F44,2),0) -> 0 | F44: 0 | G44: =E44*F44 -> 0 | H44: х | I44: х | J44: х | K44: х | L44: х | M44: х | N44: х | O44: х
A45: 5 | B45: Реализация основных общеобразовательных программ основного общего образования | C45: адаптированная образовательная программа | D45: 802111О.99.0.БА96АГ00000 | E45: =IFERROR(ROUND('[1]16'!AG169/F45,2),0) -> 47909.72 | F45: 6 | G45: =E45*F45 -> 287458.32 | H45: х | I45: х | J45: х | K45: х | L45: х | M45: х | N45: х | O45: х
...

Sheet Лист2
A1: Расчетные данные с детализацией для установления нормативных затрат
A2: МБОУ СОШ № 183
A3: краткое наименование учреждения, в соответствии с Уставом
A4: Муниципальные услуги | C4: Реализация основных общеобразовательных программ начального общего образования | U4: Реализация основных общеобразовательных программ основного общего образования | AM4: Реализация основных общеобразовательных программ среднего общего образования | BE4: Реализация основных общеобразовательных программ дошкольного образования | BK4: Итого в бюджет по учреждению на 01.01.2021, тыс.рублей | BM4: Изменения в 2021 году, тыс.рублей | BO4: Изменения в 2021 году, тыс.рублей | BQ4: Изменения в 2021 году, тыс.рублей | BS4: Изменения в 2021 году, тыс.рублей | BU4: Изменения в 2021 году, тыс.рублей | BW4: Изменения в 2021 году, тыс.рублей | BY4: Включено в МЗ с учетом изменения на 2021 год, тыс.рублей
C5: не указано | I5: образовательная программа, обеспечивающая углубленное изучение отдельных учебных предметов, предметных областей (профильное обучение) | O5: адаптированная образовательная программа | U5: не указано | AA5: образовательная программа, обеспечивающая углубленное изучение отдельных учебных предметов, предметных областей (профильное обучение) | AG5: адаптированная образовательная программа | AM5: не указано | AS5: образовательная программа, обеспечивающая углубленное изучение отдельных учебных предметов, предметных областей (профильное обучение) | AY5: адаптированная образовательная программа | BE5: не указано
C6: не указано | I6: не указано | O6: не указано | U6: не указано | AA6: не указано | AG6: не указано | AM6: не указано | AS6: не указано | AY6: не указано | BE6: не указано
C7: не указано | I7: не указано | O7: не указано | U7: не указано | AA7: не указано | AG7: не указано | AM7: не указано | AS7: не указано | AY7: не указано | BE7: От 1 года до 3 лет | BF7: От 3 лет до 8 лет | BG7: От 1 года до 3 лет | BH7: От 3 лет до 8 лет | BI7: От 1 года до 3 лет | BJ7: От 3 лет до 8 лет
C8: Очная | D8: Очная с применением сетевой формы реализации, дистанционных образовательных технологий и электронного обучения | E8: Очно-заочная | F8: Очно-заочная с применением сетевой формы реализации, дистанционных образовательных технологий и электронного обучения | G8: Заочная | H8: Заочная с применением сетевой формы реализации, дистанционных образовательных технологий и электронного обучения | I8: Очная | J8: Очная с применением сетевой формы реализации, дистанционных образовательных технологий и электронного обучения | K8: Очно-заочная | L8: Очно-заочная с применением сетевой формы реализации, дистанционных образовательных технологий и электронного обучения | M8: Заочная | N8: Заочная с применением сетевой формы реализации, дистанционных образовательных технологий и электронного обучения | O8: Очная | P8: Очная с применением сетевой формы реализации, дистанционных образовательных технологий и электронного обучения | Q8: Очно-заочная | R8: Очно-заочная с применением сетевой формы реализации, дистанционных образовательных технологий и электронного обучения | S8: Заочная | T8: Заочная с применением сетевой формы реализации, дистанционных образовательных технологий и электронного обучения | U8: Очная | V8: Очная с применением сетевой формы реализации, дистанционных образовательных технологий и электронного обучения | W8: Очно-заочная | X8: Очно-заочная с применением сетевой формы реализации, дистанционных образовательных технологий и электронного обучения | Y8: Заочная | Z8: Заочная с применением сетевой формы реализации, дистанционных образовательных технологий и электронного обучения | AA8: Очная | AB8: Очная с применением сетевой формы реализации, дистанционных образовательных технологий и электронного обучения | AC8: Очно-заочная | AD8: Очно-заочная с применением сетевой формы реализации, дистанционных образовательных технологий и электронного обучения | AE8: Заочная | AF8: Заочная с применением сетевой формы реализации, дистанционных образовательных технологий и электронного обучения | AG8: Очная | AH8: Очная с применением сетевой формы реализации, дистанционных образовательных технологий и электронного обучения | AI8: Очно-заочная | AJ8: Очно-заочная с применением сетевой формы реализации, дистанционных образовательных технологий и электронного обучения | AK8: Заочная | AL8: Заочная с применением сетевой формы реализации, дистанционных образовательных технологий и электронного обучения | AM8: Очная | AN8: Очная с применением сетевой формы реализации, дистанционных образовательных технологий и электронного обучения | AO8: Очно-заочная | AP8: Очно-заочная с применением сетевой формы реализации, дистанционных образовательных технологий и электронного обучения | AQ8: Заочная | AR8: Заочная с применением сетевой формы реализации, дистанционных образовательных технологий и электронного обучения | AS8: Очная | AT8: Очная с применением сетевой формы реализации, дистанционных образовательных технологий и электронного обучения | AU8: Очно-заочная | AV8: Очно-заочная с применением сетевой формы реализации, дистанционных образовательных технологий и электронного обучения | AW8: Заочная | AX8: Заочная с применением сетевой формы реализации, дистанционных образовательных технологий и электронного обучения | AY8: Очная | AZ8: Очная с применением сетевой формы реализации, дистанционных образовательных технологий и электронного обучения | BA8: Очно-заочная | BB8: Очно-заочная с применением сетевой формы реализации, дистанционных образовательных технологий и электронного обучения | BC8: Заочная | BD8: Заочная с применением сетевой формы реализации, дистанционных образовательных технологий и электронного обучения | BE8: Очная
BE9: группа кратковременного пребывания детей | BF9: группа кратковременного пребывания детей | BG9: группа полного дня | BH9: группа полного дня | BI9: группа круглосуточного пребывания | BJ9: группа круглосуточного пребывания | BK9: СОШ (1 услуга) | BL9: ДОУ при СОШ (2 услуга) | BM9: СОШ (1 услуга) | BN9: ДОУ при СОШ (2 услуга) | BO9: СОШ (1 услуга) | BP9: ДОУ при СОШ (2 услуга) | BQ9: СОШ (1 услуга) | BR9: ДОУ при СОШ (2 услуга) | BS9: СОШ (1 услуга) | BT9: ДОУ при СОШ (2 услуга) | BU9: СОШ (1 услуга) | BV9: ypcji | BW9: СОШ (1 услуга) | BX9: ДОУ при СОШ (2 услуга) | BY9: СОШ (1 услуга) | BZ9: ДОУ при СОШ (2 услуга) | CA9: ВСЕГО
A10: Уникальный номер реестровой записи | C10: 801012О.99.0.БА81АЭ92001 | D10: 801012О.99.0.БА81АЮ07001 | E10: 801012О.99.0.БА81АЭ96001 | F10: 801012О.99.0.БА81АЮ11001 | G10: 801012О.99.0.БА81АЮ00001 | H10: 801012О.99.0.БА81АЮ15001 | I10: 801012О.99.0.БА81АП40001 | J10: 801012О.99.0.БА81АП55001 | K10: 801012О.99.0.БА81АП44001 | L10: 801012О.99.0.БА81АП59001 | M10: 801012О.99.0.БА81АП48001 | N10: 801012О.99.0.БА81АП63001 | O10: 801012О.99.0.БА81АВ88000 | P10: 801012О.99.0.БА81АГ03000 | Q10: 801012О.99.0.БА81АВ92000 | R10: 801012О.99.0.БА81АГ07000 | S10: 801012О.99.0.БА81АВ96000 | T10: 801012О.99.0.БА81АГ11000 | U10: 802111О.99.0.БА96АЮ58001 | V10: 802111О.99.0.БА96АЮ73001 | W10: 802111О.99.0.БА96АЮ62001 | X10: 802111О.99.0.БА96АЮ77001 | Y10: 802111О.99.0.БА96АЮ66001 | Z10: 802111О.99.0.БА96АЮ81001 | AA10: 802111О.99.0.БА96АП76001 | AB10: 802111О.99.0.БА96АП91001 | AC10: 802111О.99.0.БА96АП80001 | AD10: 802111О.99.0.БА96АП95001 | AE10: 802111О.99.0.БА96АП84001 | AF10: 802111О.99.0.БА96АП99001 | AG10: 802111О.99.0.БА96АГ00000 | AH10: 802111О.99.0.БА96АГ15000 | AI10: 802111О.99.0.БА96АГ04000 | AJ10: 802111О.99.0.БА96АГ19000 | AK10: 802111О.99.0.БА96АГ08000 | AL10: 802111О.99.0.БА96АГ23000 | AM10: 802112О.99.0.ББ11АЮ58001 | AN10: 802112О.99.0.ББ11АЮ73001 | AO10: 802112О.99.0.ББ11АЮ62001 | AP10: 802112О.99.0.ББ11АЮ77001 | AQ10: 802112О.99.0.ББ11АЮ66001 | AR10: 802112О.99.0.ББ11АЮ81001 | AS10: 802112О.99.0.ББ11АП76001 | AT10: 802112О.99.0.ББ11АП91001 | AU10: 802112О.99.0.ББ11АП80001 | AV10: 802112О.99.0.ББ11АП95001 | AW10: 802112О.99.0.ББ11АП84001 | AX10: 802112О.99.0.ББ11АП99001 | AY10: 802112О.99.0.ББ11АГ00000 | AZ10: 802112О.99.0.ББ11АГ15000 | BA10: 802112О.99.0.ББ11АГ04000 | BB10: 802112О.99.0.ББ11АГ19000 | BC10: 802112О.99.0.ББ11АГ08000 | BD10: 802112О.99.0.ББ11АГ23000 | BE10: 801011О.99.0.БВ24ДМ60000 | BF10: 801011О.99.0.БВ24ДН80000 | BG10: 801011О.99.0.БВ24ДМ62000 | BH10: 801011О.99.0.БВ24ДН82000 | BI10: 801011О.99.0.БВ24ДМ64000 | BJ10: 801011О.99.0.БВ24ДН84000 | CB10: проверка
A11: номер по списку муниципальных услуг | C11: 1 | D11: 2 | E11: 3 | F11: 4 | G11: 5 | H11: 6 | I11: 7 | J11: 8 | K11: 9 | L11: 10 | M11: 11 | N11: 12 | O11: 13 | P11: 14 | Q11: 15 | R11: 16 | S11: 17 | T11: 18 | U11: 19 | V11: 20 | W11: 21 | X11: 22 | Y11: 23 | Z11: 24 | AA11: 25 | AB11: 26 | AC11: 27 | AD11: 28 | AE11: 29 | AF11: 30 | AG11: 31 | AH11: 32 | AI11: 33 | AJ11: 34 | AK11: 35 | AL11: 36 | AM11: 37 | AN11: 38 | AO11: 39 | AP11: 40 | AQ11: 41 | AR11: 42 | AS11: 43 | AT11: 44 | AU11: 45 | AV11: 46 | AW11: 47 | AX11: 48 | AY11: 49 | AZ11: 50 | BA11: 51 | BB11: 52 | BC11: 53 | BD11: 54 | BE11: 1 | BF11: 2 | BG11: 3 | BH11: 4 | BI11: 5 | BJ11: 6
A12: Затраты бюджета города (01.01.00) | B12: Код статьи
A13: Итого | B13: 210 | C13: =C14+C18+C22 -> 4320.364 | D13: =D14+D18+D22 -> 0 | E13: =E14+E18+E22 -> 0 | F13: =F14+F18+F22 -> 0 | G13: =G14+G18+G22 -> 0 | H13: =H14+H18+H22 -> 0 | I13: =I14+I18+I22 -> 0 | J13: =J14+J18+J22 -> 0 | ... CA13: =CA14+CA18+CA22 -> 8691.062 | CB13: =SUM(C13:BJ13)-CA13 -> 0.001
A14: итого | B14: 211 | C14: =C15 -> 3294.757 | D14: =D15 -> 0 | E14: =E15 -> 0 | F14: =F15 -> 0 | G14: =G15 -> 0 | H14: =H15 -> 0 | I14: =I15 -> 0 | J14: =J15 -> 0 | ... CA14: =CA15 -> 6627.9 | CB14: =SUM(C14:BJ14)-CA14 -> 0
A15: Заработная плата, в том числе | C15: =C16+C17 -> 3294.757 | D15: =D16+D17 -> 0 | E15: =E16+E17 -> 0 | F15: =F16+F17 -> 0 | G15: =G16+G17 -> 0 | H15: =H16+H17 -> 0 | I15: =I16+I17 -> 0 | J15: =J16+J17 -> 0 | ... CA15: =CA16+CA17 -> 6627.9 | CB15: =SUM(C15:BJ15)-CA15 -> 0
A16: работников , непосредственно принимающих участие в оказании услуги (педработники) | C16: =IFERROR(ROUND($BY16/$BY131*C131,3),0) -> 0 | D16: =IFERROR(ROUND($BY16/$BY131*D131,3),0) -> 0 | E16: =IFERROR(ROUND($BY16/$BY131*E131,3),0) -> 0 | F16: =IFERROR(ROUND($BY16/$BY131*F131,3),0) -> 0 | G16: =IFERROR(ROUND($BY16/$BY131*G131,3),0) -> 0 | H16: =IFERROR(ROUND($BY16/$BY131*H131,3),0) -> 0 | I16: =IFERROR(ROUND($BY16/$BY131*I131,3),0) -> 0 | J16: =IFERROR(ROUND($BY16/$BY131*J131,3),0) -> 0 | ... BD16: =IFERROR(ROUND($BY16/$BY131*BD131,3),0) -> 0 | BE16: =IFERROR(ROUND($BZ16/$BZ131*BE131,3),0) -> 0 | BF16: =IFERROR(ROUND($BZ16/$BZ131*BF131,3),0) -> 0 | BG16: =IFERROR(ROUND($BZ16/$BZ131*BG131,3),0) -> 0 | BH16: =IFERROR(ROUND($BZ16/$BZ131*BH131,3),0) -> 0 | BI16: =IFERROR(ROUND($BZ16/$BZ131*BI131,3),0) -> 0 | BJ16: =IFERROR(ROUND($BZ16/$BZ131*BJ131,3),0) -> 0 | BY16: =BK16+BM16+BO16+BQ16+BS16+BU16+BW16 -> 0 | BZ16: =BL16+BN16+BP16+BR16+BT16+BV16+BX16 -> 0 | CA16: =BY16+BZ16 -> 0 | CB16: =SUM(C16:BJ16)-CA16 -> 0
A17: остальных работников | C17: =IFERROR(ROUND($BY17/$BY131*C131,3),0) -> 3294.757 | D17: =IFERROR(ROUND($BY17/$BY131*D131,3),0) -> 0 | E17: =IFERROR(ROUND($BY17/$BY131*E131,3),0) -> 0 | F17: =IFERROR(ROUND($BY17/$BY131*F131,3),0) -> 0 | G17: =IFERROR(ROUND($BY17/$BY131*G131,3),0) -> 0 | H17: =IFERROR(ROUND($BY17/$BY131*H131,3),0) -> 0 | I17: =IFERROR(ROUND($BY17/$BY131*I131,3),0) -> 0 | J17: =IFERROR(ROUND($BY17/$BY131*J131,3),0) -> 0 | ... BD17: =IFERROR(ROUND($BY17/$BY131*BD131,3),0) -> 0 | BE17: =IFERROR(ROUND($BZ17/$BZ131*BE131,3),0) -> 0 | BF17: =IFERROR(ROUND($BZ17/$BZ131*BF131,3),0) -> 0 | BG17: =IFERROR(ROUND($BZ17/$BZ131*BG131,3),0) -> 0 | BH17: =IFERROR(ROUND($BZ17/$BZ131*BH131,3),0) -> 0 | BI17: =IFERROR(ROUND($BZ17/$BZ131*BI131,3),0) -> 0 | BJ17: =IFERROR(ROUND($BZ17/$BZ131*BJ131,3),0) -> 0 | BK17: 6627.9 | BY17: =BK17+BM17+BO17+BQ17+BS17+BU17+BW17 -> 6627.9 | BZ17: =BL17+BN17+BP17+BR17+BT17+BV17+BX17 -> 0 | CA17: =BY17+BZ17 -> 6627.9 | CB17: =SUM(C17:BJ17)-CA17 -> 0
A18: итого | B18: 212 | C18: =C19 -> 23.861 | D18: =D19 -> 0 | E18: =E19 -> 0 | F18: =F19 -> 0 | G18: =G19 -> 0 | H18: =H19 -> 0 | I18: =I19 -> 0 | J18: =J19 -> 0 | ... CA18: =CA19 -> 48 | CB18: =SUM(C18:BJ18)-CA18 -> 0
A19: компенсация за проезд, в том числе | B19: 212 | C19: =C20+C21 -> 23.861 | D19: =D20+D21 -> 0 | E19: =E20+E21 -> 0 | F19: =F20+F21 -> 0 | G19: =G20+G21 -> 0 | H19: =H20+H21 -> 0 | I19: =I20+I21 -> 0 | J19: =J20+J21 -> 0 | ... CA19: =CA20+CA21 -> 48 | CB19: =SUM(C19:BJ19)-CA19 -> 0
A20: работников , непосредственно принимающих участие в оказании услуги (педработники) | C20: =IFERROR(ROUND($BY20/$BY131*C131,3),0) -> 15.311 | D20: =IFERROR(ROUND($BY20/$BY131*D131,3),0) -> 0 | E20: =IFERROR(ROUND($BY20/$BY131*E131,3),0) -> 0 | F20: =IFERROR(ROUND($BY20/$BY131*F131,3),0) -> 0 | G20: =IFERROR(ROUND($BY20/$BY131*G131,3),0) -> 0 | H20: =IFERROR(ROUND($BY20/$BY131*H131,3),0) -> 0 | I20: =IFERROR(ROUND($BY20/$BY131*I131,3),0) -> 0 | J20: =IFERROR(ROUND($BY20/$BY131*J131,3),0) -> 0 | ... BD20: =IFERROR(ROUND($BY20/$BY131*BD131,3),0) -> 0 | BE20: =IFERROR(ROUND($BZ20/$BZ131*BE131,3),0) -> 0 | BF20: =IFERROR(ROUND($BZ20/$BZ131*BF131,3),0) -> 0 | BG20: =IFERROR(ROUND($BZ20/$BZ131*BG131,3),0) -> 0 | BH20: =IFERROR(ROUND($BZ20/$BZ131*BH131,3),0) -> 0 | BI20: =IFERROR(ROUND($BZ20/$BZ131*BI131,3),0) -> 0 | BJ20: =IFERROR(ROUND($BZ20/$BZ131*BJ131,3),0) -> 0 | BK20: 30.8 | BY20: =BK20+BM20+BO20+BQ20+BS20+BU20+BW20 -> 30.8 | BZ20: =BL20+BN20+BP20+BR20+BT20+BV20+BX20 -> 0 | CA20: =BY20+BZ20 -> 30.8 | CB20: =SUM(C20:BJ20)-CA20 -> 0
A21: остальных работников | C21: =IFERROR(ROUND($BY21/$BY131*C131,3),0) -> 8.55 | D21: =IFERROR(ROUND($BY21/$BY131*D131,3),0) -> 0 | E21: =IFERROR(ROUND($BY21/$BY131*E131,3),0) -> 0 | F21: =IFERROR(ROUND($BY21/$BY131*F131,3),0) -> 0 | G21: =IFERROR(ROUND($BY21/$BY131*G131,3),0) -> 0 | H21: =IFERROR(ROUND($BY21/$BY131*H131,3),0) -> 0 | I21: =IFERROR(ROUND($BY21/$BY131*I131,3),0) -> 0 | J21: =IFERROR(ROUND($BY21/$BY131*J131,3),0) -> 0 | ... BD21: =IFERROR(ROUND($BY21/$BY131*BD131,3),0) -> 0 | BE21: =IFERROR(ROUND($BZ21/$BZ131*BE131,3),0) -> 0 | BF21: =IFERROR(ROUND($BZ21/$BZ131*BF131,3),0) -> 0 | BG21: =IFERROR(ROUND($BZ21/$BZ131*BG131,3),0) -> 0 | BH21: =IFERROR(ROUND($BZ21/$BZ131*BH131,3),0) -> 0 | BI21: =IFERROR(ROUND($BZ21/$BZ131*BI131,3),0) -> 0 | BJ21: =IFERROR(ROUND($BZ21/$BZ131*BJ131,3),0) -> 0 | BK21: 17.2 | BY21: =BK21+BM21+BO21+BQ21+BS21+BU21+BW21 -> 17.2 | BZ21: =BL21+BN21+BP21+BR21+BT21+BV21+BX21 -> 0 | CA21: =BY21+BZ21 -> 17.2 | CB21: =SUM(C21:BJ21)-CA21 -> 0
A22: итого, в том числе | B22: 213 | C22: =C23+C26 -> 1001.746 | D22: =D23+D26 -> 0 | E22: =E23+E26 -> 0 | F22: =F23+F26 -> 0 | G22: =G23+G26 -> 0 | H22: =H23+H26 -> 0 | I22: =I23+I26 -> 0 | J22: =J23+J26 -> 0 | ... CA22: =CA23+CA26 -> 2015.162 | CB22: =SUM(C22:BJ22)-CA22 -> 0.001
A23: начисления на зарплату, в том числе | C23: =C24+C25 -> 994.538 | D23: =D24+D25 -> 0 | E23: =E24+E25 -> 0 | F23: =F24+F25 -> 0 | G23: =G24+G25 -> 0 | H23: =H24+H25 -> 0 | I23: =I24+I25 -> 0 | J23: =J24+J25 -> 0 | ... CA23: =CA24+CA25 -> 2000.662 | CB23: =SUM(C23:BJ23)-CA23 -> 0.001
A24: работников , непосредственно принимающих участие в оказании услуги (педработники) | C24: =IFERROR(ROUND($BY24/$BY131*C131,3),0) -> 0 | D24: =IFERROR(ROUND($BY24/$BY131*D131,3),0) -> 0 | E24: =IFERROR(ROUND($BY24/$BY131*E131,3),0) -> 0 | F24: =IFERROR(ROUND($BY24/$BY131*F131,3),0) -> 0 | G24: =IFERROR(ROUND($BY24/$BY131*G131,3),0) -> 0 | H24: =IFERROR(ROUND($BY24/$BY131*H131,3),0) -> 0 | I24: =IFERROR(ROUND($BY24/$BY131*I131,3),0) -> 0 | J24: =IFERROR(ROUND($BY24/$BY131*J131,3),0) -> 0 | ... BD24: =IFERROR(ROUND($BY24/$BY131*BD131,3),0) -> 0 | BE24: =IFERROR(ROUND($BZ24/$BZ131*BE131,3),0) -> 0 | BF24: =IFERROR(ROUND($BZ24/$BZ131*BF131,3),0) -> 0 | BG24: =IFERROR(ROUND($BZ24/$BZ131*BG131,3),0) -> 0 | BH24: =IFERROR(ROUND($BZ24/$BZ131*BH131,3),0) -> 0 | BI24: =IFERROR(ROUND($BZ24/$BZ131*BI131,3),0) -> 0 | BJ24: =IFERROR(ROUND($BZ24/$BZ131*BJ131,3),0) -> 0 | BY24: =BK24+BM24+BO24+BQ24+BS24+BU24+BW24 -> 0 | BZ24: =BL24+BN24+BP24+BR24+BT24+BV24+BX24 -> 0 | CA24: =BY24+BZ24 -> 0 | CB24: =SUM(C24:BJ24)-CA24 -> 0
A25: остальных работников | C25: =IFERROR(ROUND($BY25/$BY131*C131,3),0) -> 994.538 | D25: =IFERROR(ROUND($BY25/$BY131*D131,3),0) -> 0 | E25: =IFERROR(ROUND($BY25/$BY131*E131,3),0) -> 0 | F25: =IFERROR(ROUND($BY25/$BY131*F131,3),0) -> 0 | G25: =IFERROR(ROUND($BY25/$BY131*G131,3),0) -> 0 | H25: =IFERROR(ROUND($BY25/$BY131*H131,3),0) -> 0 | I25: =IFERROR(ROUND($BY25/$BY131*I131,3),0) -> 0 | J25: =IFERROR(ROUND($BY25/$BY131*J131,3),0) -> 0 | ... BD25: =IFERROR(ROUND($BY25/$BY131*BD131,3),0) -> 0 | BE25: =IFERROR(ROUND($BZ25/$BZ131*BE131,3),0) -> 0 | BF25: =IFERROR(ROUND($BZ25/$BZ131*BF131,3),0) -> 0 | BG25: =IFERROR(ROUND($BZ25/$BZ131*BG131,3),0) -> 0 | BH25: =IFERROR(ROUND($BZ25/$BZ131*BH131,3),0) -> 0 | BI25: =IFERROR(ROUND($BZ25/$BZ131*BI131,3),0) -> 0 | BJ25: =IFERROR(ROUND($BZ25/$BZ131*BJ131,3),0) -> 0 | BK25: 2000.662 | BY25: =BK25+BM25+BO25+BQ25+BS25+BU25+BW25 -> 2000.662 | BZ25: =BL25+BN25+BP25+BR25+BT25+BV25+BX25 -> 0 | CA25: =BY25+BZ25 -> 2000.662 | CB25: =SUM(C25:BJ25)-CA25 -> 0.001
A26: начисления на проездные | C26: =C27+C28 -> 7.208 | D26: =D27+D28 -> 0 | E26: =E27+E28 -> 0 | F26: =F27+F28 -> 0 | G26: =G27+G28 -> 0 | H26: =H27+H28 -> 0 | I26: =I27+I28 -> 0 | J26: =J27+J28 -> 0 | ... CA26: =CA27+CA28 -> 14.5 | CB26: =SUM(C26:BJ26)-CA26 -> 0
A27: работников , непосредственно принимающих участие в оказании услуги (педработники) | C27: =IFERROR(ROUND($BY27/$BY131*C131,3),0) -> 4.623 | D27: =IFERROR(ROUND($BY27/$BY131*D131,3),0) -> 0 | E27: =IFERROR(ROUND($BY27/$BY131*E131,3),0) -> 0 | F27: =IFERROR(ROUND($BY27/$BY131*F131,3),0) -> 0 | G27: =IFERROR(ROUND($BY27/$BY131*G131,3),0) -> 0 | H27: =IFERROR(ROUND($BY27/$BY131*H131,3),0) -> 0 | I27: =IFERROR(ROUND($BY27/$BY131*I131,3),0) -> 0 | J27: =IFERROR(ROUND($BY27/$BY131*J131,3),0) -> 0 | ... BD27: =IFERROR(ROUND($BY27/$BY131*BD131,3),0) -> 0 | BE27: =IFERROR(ROUND($BZ27/$BZ131*BE131,3),0) -> 0 | BF27: =IFERROR(ROUND($BZ27/$BZ131*BF131,3),0) -> 0 | BG27: =IFERROR(ROUND($BZ27/$BZ131*BG131,3),0) -> 0 | BH27: =IFERROR(ROUND($BZ27/$BZ131*BH131,3),0) -> 0 | BI27: =IFERROR(ROUND($BZ27/$BZ131*BI131,3),0) -> 0 | BJ27: =IFERROR(ROUND($BZ27/$BZ131*BJ131,3),0) -> 0 | BK27: 9.3 | BY27: =BK27+BM27+BO27+BQ27+BS27+BU27+BW27 -> 9.3 | BZ27: =BL27+BN27+BP27+BR27+BT27+BV27+BX27 -> 0 | CA27: =BY27+BZ27 -> 9.3 | CB27: =SUM(C27:BJ27)-CA27 -> 0
A28: остальных работников | C28: =IFERROR(ROUND($BY28/$BY131*C131,3),0) -> 2.585 | D28: =IFERROR(ROUND($BY28/$BY131*D131,3),0) -> 0 | E28: =IFERROR(ROUND($BY28/$BY131*E131,3),0) -> 0 | F28: =IFERROR(ROUND($BY28/$BY131*F131,3),0) -> 0 | G28: =IFERROR(ROUND($BY28/$BY131*G131,3),0) -> 0 | H28: =IFERROR(ROUND($BY28/$BY131*H131,3),0) -> 0 | I28: =IFERROR(ROUND($BY28/$BY131*I131,3),0) -> 0 | J28: =IFERROR(ROUND($BY28/$BY131*J131,3),0) -> 0 | ... BD28: =IFERROR(ROUND($BY28/$BY131*BD131,3),0) -> 0 | BE28: =IFERROR(ROUND($BZ28/$BZ131*BE131,3),0) -> 0 | BF28: =IFERROR(ROUND($BZ28/$BZ131*BF131,3),0) -> 0 | BG28: =IFERROR(ROUND($BZ28/$BZ131*BG131,3),0) -> 0 | BH28: =IFERROR(ROUND($BZ28/$BZ131*BH131,3),0) -> 0 | BI28: =IFERROR(ROUND($BZ28/$BZ131*BI131,3),0) -> 0 | BJ28: =IFERROR(ROUND($BZ28/$BZ131*BJ131,3),0) -> 0 | BK28: 5.2 | BY28: =BK28+BM28+BO28+BQ28+BS28+BU28+BW28 -> 5.2 | BZ28: =BL28+BN28+BP28+BR28+BT28+BV28+BX28 -> 0 | CA28: =BY28+BZ28 -> 5.2 | CB28: =SUM(C28:BJ28)-CA28 -> 0
A29: пособие до 3-х лет (раздел 10 04) | B29: 266 | C29: =IFERROR(ROUND($BY29/$BY131*C131,3),0) -> 0.466 | D29: =IFERROR(ROUND($BY29/$BY131*D131,3),0) -> 0 | E29: =IFERROR(ROUND($BY29/$BY131*E131,3),0) -> 0 | F29: =IFERROR(ROUND($BY29/$BY131*F131,3),0) -> 0 | G29: =IFERROR(ROUND($BY29/$BY131*G131,3),0) -> 0 | H29: =IFERROR(ROUND($BY29/$BY131*H131,3),0) -> 0 | I29: =IFERROR(ROUND($BY29/$BY131*I131,3),0) -> 0 | J29: =IFERROR(ROUND($BY29/$BY131*J131,3),0) -> 0 | ... BD29: =IFERROR(ROUND($BY29/$BY131*BD131,3),0) -> 0 | BE29: =IFERROR(ROUND($BZ29/$BZ131*BE131,3),0) -> 0 | BF29: =IFERROR(ROUND($BZ29/$BZ131*BF131,3),0) -> 0 | BG29: =IFERROR(ROUND($BZ29/$BZ131*BG131,3),0) -> 0 | BH29: =IFERROR(ROUND($BZ29/$BZ131*BH131,3),0) -> 0 | BI29: =IFERROR(ROUND($BZ29/$BZ131*BI131,3),0) -> 0 | BJ29: =IFERROR(ROUND($BZ29/$BZ131*BJ131,3),0) -> 0 | BK29: 0.937 | BY29: =BK29+BM29+BO29+BQ29+BS29+BU29+BW29 -> 0.937 | BZ29: =BL29+BN29+BP29+BR29+BT29+BV29+BX29 -> 0 | CA29: =BY29+BZ29 -> 0.937 | CB29: =SUM(C29:BJ29)-CA29 -> 0
A30: Итого | B30: 220 | C30: =C31+C35+C38+C49+C50+C81+C96 -> 1662.466 | D30: =D31+D35+D38+D49+D50+D81+D96 -> 0 | E30: =E31+E35+E38+E49+E50+E81+E96 -> 0 | F30: =F31+F35+F38+F49+F50+F81+F96 -> 0 | G30: =G31+G35+G38+G49+G50+G81+G96 -> 0 | H30: =H31+H35+H38+H49+H50+H81+H96 -> 0 | I30: =I31+I35+I38+I49+I50+I81+I96 -> 0 | J30: =J31+J35+J38+J49+J50+J81+J96 -> 0 | ... CA30: =CA31+CA35+CA38+CA49+CA50+CA81+CA96 -> 3344.3 | CB30: =SUM(C30:BJ30)-CA30 -> 0.003
A31: Связь всего | B31: 221 | C31: =C32+C33+C34 -> 15.361 | D31: =D32+D33+D34 -> 0 | E31: =E32+E33+E34 -> 0 | F31: =F32+F33+F34 -> 0 | G31: =G32+G33+G34 -> 0 | H31: =H32+H33+H34 -> 0 | I31: =I32+I33+I34 -> 0 | J31: =J32+J33+J34 -> 0 | ... CA31: =CA32+CA33+CA34 -> 30.9 | CB31: =SUM(C31:BJ31)-CA31 -> 0.001
A32: абонентная плата | C32: =IFERROR(ROUND($BY32/$BY131*C131,3),0) -> 15.361 | D32: =IFERROR(ROUND($BY32/$BY131*D131,3),0) -> 0 | E32: =IFERROR(ROUND($BY32/$BY131*E131,3),0) -> 0 | F32: =IFERROR(ROUND($BY32/$BY131*F131,3),0) -> 0 | G32: =IFERROR(ROUND($BY32/$BY131*G131,3),0) -> 0 | H32: =IFERROR(ROUND($BY32/$BY131*H131,3),0) -> 0 | I32: =IFERROR(ROUND($BY32/$BY131*I131,3),0) -> 0 | J32: =IFERROR(ROUND($BY32/$BY131*J131,3),0) -> 0 | ... BD32: =IFERROR(ROUND($BY32/$BY131*BD131,3),0) -> 0 | BE32: =IFERROR(ROUND($BZ32/$BZ131*BE131,3),0) -> 0 | BF32: =IFERROR(ROUND($BZ32/$BZ131*BF131,3),0) -> 0 | BG32: =IFERROR(ROUND($BZ32/$BZ131*BG131,3),0) -> 0 | BH32: =IFERROR(ROUND($BZ32/$BZ131*BH131,3),0) -> 0 | BI32: =IFERROR(ROUND($BZ32/$BZ131*BI131,3),0) -> 0 | BJ32: =IFERROR(ROUND($BZ32/$BZ131*BJ131,3),0) -> 0 | BK32: 30.9 | BY32: =BK32+BM32+BO32+BQ32+BS32+BU32+BW32 -> 30.9 | BZ32: =BL32+BN32+BP32+BR32+BT32+BV32+BX32 -> 0 | CA32: =BY32+BZ32 -> 30.9 | CB32: =SUM(C32:BJ32)-CA32 -> 0.001
A33: электронный документооборот ИФНС | C33: =IFERROR(ROUND($BY33/$BY131*C131,3),0) -> 0 | D33: =IFERROR(ROUND($BY33/$BY131*D131,3),0) -> 0 | E33: =IFERROR(ROUND($BY33/$BY131*E131,3),0) -> 0 | F33: =IFERROR(ROUND($BY33/$BY131*F131,3),0) -> 0 | G33: =IFERROR(ROUND($BY33/$BY131*G131,3),0) -> 0 | H33: =IFERROR(ROUND($BY33/$BY131*H131,3),0) -> 0 | I33: =IFERROR(ROUND($BY33/$BY131*I131,3),0) -> 0 | J33: =IFERROR(ROUND($BY33/$BY131*J131,3),0) -> 0 | ... BD33: =IFERROR(ROUND($BY33/$BY131*BD131,3),0) -> 0 | BE33: =IFERROR(ROUND($BZ33/$BZ131*BE131,3),0) -> 0 | BF33: =IFERROR(ROUND($BZ33/$BZ131*BF131,3),0) -> 0 | BG33: =IFERROR(ROUND($BZ33/$BZ131*BG131,3),0) -> 0 | BH33: =IFERROR(ROUND($BZ33/$BZ131*BH131,3),0) -> 0 | BI33: =IFERROR(ROUND($BZ33/$BZ131*BI131,3),0) -> 0 | BJ33: =IFERROR(ROUND($BZ33/$BZ131*BJ131,3),0) -> 0 | BY33: =BK33+BM33+BO33+BQ33+BS33+BU33+BW33 -> 0 | BZ33: =BL33+BN33+BP33+BR33+BT33+BV33+BX33 -> 0 | CA33: =BY33+BZ33 -> 0 | CB33: =SUM(C33:BJ33)-CA33 -> 0
A34: интернет | C34: =IFERROR(ROUND($BY34/$BY131*C131,3),0) -> 0 | D34: =IFERROR(ROUND($BY34/$BY131*D131,3),0) -> 0 | E34: =IFERROR(ROUND($BY34/$BY131*E131,3),0) -> 0 | F34: =IFERROR(ROUND($BY34/$BY131*F131,3),0) -> 0 | G34: =IFERROR(ROUND($BY34/$BY131*G131,3),0) -> 0 | H34: =IFERROR(ROUND($BY34/$BY131*H131,3),0) -> 0 | I34: =IFERROR(ROUND($BY34/$BY131*I131,3),0) -> 0 | J34: =IFERROR(ROUND($BY34/$BY131*J131,3),0) -> 0 | ... BD34: =IFERROR(ROUND($BY34/$BY131*BD131,3),0) -> 0 | BE34: =IFERROR(ROUND($BZ34/$BZ131*BE131,3),0) -> 0 | BF34: =IFERROR(ROUND($BZ34/$BZ131*BF131,3),0) -> 0 | BG34: =IFERROR(ROUND($BZ34/$BZ131*BG131,3),0) -> 0 | BH34: =IFERROR(ROUND($BZ34/$BZ131*BH131,3),0) -> 0 | BI34: =IFERROR(ROUND($BZ34/$BZ131*BI131,3),0) -> 0 | BJ34: =IFERROR(ROUND($BZ34/$BZ131*BJ131,3),0) -> 0 | BY34: =BK34+BM34+BO34+BQ34+BS34+BU34+BW34 -> 0 | BZ34: =BL34+BN34+BP34+BR34+BT34+BV34+BX34 -> 0 | CA34: =BY34+BZ34 -> 0 | CB34: =SUM(C34:BJ34)-CA34 -> 0
A35: Трансп. Услуги | B35: 222 | C35: =SUM(C36:C37) -> 0 | D35: =SUM(D36:D37) -> 0 | E35: =SUM(E36:E37) -> 0 | F35: =SUM(F36:F37) -> 0 | G35: =SUM(G36:G37) -> 0 | H35: =SUM(H36:H37) -> 0 | I35: =SUM(I36:I37) -> 0 | J35: =SUM(J36:J37) -> 0 | ... CA35: =SUM(CA36:CA37) -> 0 | CB35: =SUM(C35:BJ35)-CA35 -> 0
A36: наем транспорта для вывоза мусора на субботники | C36: =IFERROR(ROUND($BY36/$BY131*C131,3),0) -> 0 | D36: =IFERROR(ROUND($BY36/$BY131*D131,3),0) -> 0 | E36: =IFERROR(ROUND($BY36/$BY131*E131,3),0) -> 0 | F36: =IFERROR(ROUND($BY36/$BY131*F131,3),0) -> 0 | G36: =IFERROR(ROUND($BY36/$BY131*G131,3),0) -> 0 | H36: =IFERROR(ROUND($BY36/$BY131*H131,3),0) -> 0 | I36: =IFERROR(ROUND($BY36/$BY131*I131,3),0) -> 0 | J36: =IFERROR(ROUND($BY36/$BY131*J131,3),0) -> 0 | ... BD36: =IFERROR(ROUND($BY36/$BY131*BD131,3),0) -> 0 | BE36: =IFERROR(ROUND($BZ36/$BZ131*BE131,3),0) -> 0 | BF36: =IFERROR(ROUND($BZ36/$BZ131*BF131,3),0) -> 0 | BG36: =IFERROR(ROUND($BZ36/$BZ131*BG131,3),0) -> 0 | BH36: =IFERROR(ROUND($BZ36/$BZ131*BH131,3),0) -> 0 | BI36: =IFERROR(ROUND($BZ36/$BZ131*BI131,3),0) -> 0 | BJ36: =IFERROR(ROUND($BZ36/$BZ131*BJ131,3),0) -> 0 | BY36: =BK36+BM36+BO36+BQ36+BS36+BU36+BW36 -> 0 | BZ36: =BL36+BN36+BP36+BR36+BT36+BV36+BX36 -> 0 | CA36: =BY36+BZ36 -> 0 | CB36: =SUM(C36:BJ36)-CA36 -> 0
A37: прочее | C37: =IFERROR(ROUND($BY37/$BY131*C131,3),0) -> 0 | D37: =IFERROR(ROUND($BY37/$BY131*D131,3),0) -> 0 | E37: =IFERROR(ROUND($BY37/$BY131*E131,3),0) -> 0 | F37: =IFERROR(ROUND($BY37/$BY131*F131,3),0) -> 0 | G37: =IFERROR(ROUND($BY37/$BY131*G131,3),0) -> 0 | H37: =IFERROR(ROUND($BY37/$BY131*H131,3),0) -> 0 | I37: =IFERROR(ROUND($BY37/$BY131*I131,3),0) -> 0 | J37: =IFERROR(ROUND($BY37/$BY131*J131,3),0) -> 0 | ... BD37: =IFERROR(ROUND($BY37/$BY131*BD131,3),0) -> 0 | BE37: =IFERROR(ROUND($BZ37/$BZ131*BE131,3),0) -> 0 | BF37: =IFERROR(ROUND($BZ37/$BZ131*BF131,3),0) -> 0 | BG37: =IFERROR(ROUND($BZ37/$BZ131*BG131,3),0) -> 0 | BH37: =IFERROR(ROUND($BZ37/$BZ131*BH131,3),0) -> 0 | BI37: =IFERROR(ROUND($BZ37/$BZ131*BI131,3),0) -> 0 | BJ37: =IFERROR(ROUND($BZ37/$BZ131*BJ131,3),0) -> 0 | BY37: =BK37+BM37+BO37+BQ37+BS37+BU37+BW37 -> 0 | BZ37: =BL37+BN37+BP37+BR37+BT37+BV37+BX37 -> 0 | CA37: =BY37+BZ37 -> 0 | CB37: =SUM(C37:BJ37)-CA37 -> 0
A38: Итого | B38: 223 | C38: =C39+C44+C47+C48 -> 718.415 | D38: =D39+D44+D47+D48 -> 0 | E38: =E39+E44+E47+E48 -> 0 | F38: =F39+F44+F47+F48 -> 0 | G38: =G39+G44+G47+G48 -> 0 | H38: =H39+H44+H47+H48 -> 0 | I38: =I39+I44+I47+I48 -> 0 | J38: =J39+J44+J47+J48 -> 0 | ... CA38: =CA39+CA44+CA47+CA48 -> 1445.2 | CB38: =SUM(C38:BJ38)-CA38 -> 0.002
A39: тепло, в том числе | B39: 223 | C39: =C40+C41 -> 330.724 | D39: =D40+D41 -> 0 | E39: =E40+E41 -> 0 | F39: =F40+F41 -> 0 | G39: =G40+G41 -> 0 | H39: =H40+H41 -> 0 | I39: =I40+I41 -> 0 | J39: =J40+J41 -> 0 | ... CA39: =CA40+CA41 -> 665.3 | CB39: =SUM(C39:BJ39)-CA39 -> 0.002
A40: ГВС | C40: =IFERROR(ROUND($BY40/$BY131*C131,3),0) -> 55.676 | D40: =IFERROR(ROUND($BY40/$BY131*D131,3),0) -> 0 | E40: =IFERROR(ROUND($BY40/$BY131*E131,3),0) -> 0 | F40: =IFERROR(ROUND($BY40/$BY131*F131,3),0) -> 0 | G40: =IFERROR(ROUND($BY40/$BY131*G131,3),0) -> 0 | H40: =IFERROR(ROUND($BY40/$BY131*H131,3),0) -> 0 | I40: =IFERROR(ROUND($BY40/$BY131*I131,3),0) -> 0 | J40: =IFERROR(ROUND($BY40/$BY131*J131,3),0) -> 0 | ... BD40: =IFERROR(ROUND($BY40/$BY131*BD131,3),0) -> 0 | BE40: =IFERROR(ROUND($BZ40/$BZ131*BE131,3),0) -> 0 | BF40: =IFERROR(ROUND($BZ40/$BZ131*BF131,3),0) -> 0 | BG40: =IFERROR(ROUND($BZ40/$BZ131*BG131,3),0) -> 0 | BH40: =IFERROR(ROUND($BZ40/$BZ131*BH131,3),0) -> 0 | BI40: =IFERROR(ROUND($BZ40/$BZ131*BI131,3),0) -> 0 | BJ40: =IFERROR(ROUND($BZ40/$BZ131*BJ131,3),0) -> 0 | BK40: 112 | BY40: =BK40+BM40+BO40+BQ40+BS40+BU40+BW40 -> 112 | BZ40: =BL40+BN40+BP40+BR40+BT40+BV40+BX40 -> 0 | CA40: =BY40+BZ40 -> 112 | CB40: =SUM(C40:BJ40)-CA40 -> 0
...
